BEGIN:VCALENDAR
VERSION:2.0
PRODID:-//Baden-events - ECPv5.14.0.2//NONSGML v1.0//EN
CALSCALE:GREGORIAN
METHOD:PUBLISH
X-WR-CALNAME:Baden-events
X-ORIGINAL-URL:https://www.baden-events.de
X-WR-CALDESC:Veranstaltungen für Baden-events
BEGIN:VTIMEZONE
TZID:Europe/Berlin
BEGIN:DAYLIGHT
TZOFFSETFROM:+0100
TZOFFSETTO:+0200
TZNAME:CEST
DTSTART:20180325T010000
END:DAYLIGHT
BEGIN:STANDARD
TZOFFSETFROM:+0200
TZOFFSETTO:+0100
TZNAME:CET
DTSTART:20181028T010000
END:STANDARD
END:VTIMEZONE
BEGIN:VEVENT
DTSTART;TZID=Europe/Berlin:20180915T200000
DTEND;TZID=Europe/Berlin:20180916T030000
DTSTAMP:20260421T124213
CREATED:20180724T112650Z
LAST-MODIFIED:20190418T212959Z
UID:816-1537041600-1537066800@www.baden-events.de
SUMMARY:30+ Party\, Autohaus ahg Pforzheim
DESCRIPTION:Die größte Ü30-Party der Region wieder im BMW-Autohaus\nHier gibt Ü30-Pforzheim Vollgas! \n\n  \nMusik:\n DJ Rolf Ritter\, bekannt auch als DJ Steam\, feiert Premiere an den 30+Party-Turntabels bei ahg. Er spielte in den 80er Jahren in großen deutschen und italienischen Diskotheken. In den letzten Jahren ist er bekannt als Organisator und DJ der beliebten Trianon Revival Party in Rheinstetten. Dank seiner langjährigen Erfahrung weiß er genau\, was der Generation 30+ Partylaune macht. \nBewirtung: \nGenießen Sie die besten Drinks der Stadt! Diese finden Sie bei uns u.a. an der Cocktailbar von Flying Barman\, an der Sektbar oder an einer der weiteren Bars bewirtet durch den FV Langenalb. Für alle\, die bis spät in die Nacht durchtanzen wollen\, kann eine kleine Pause an unserem italienischen Kaffeewagen nicht schaden. Außerdem können Sie den Spätsommer bei uns im gemütlichen Biergarten mit einem kühlen Blonden und einer leckeren Bratwurst ausklingen lassen.  \nDie Party startet um 20.00 Uhr. Die begehrten Tickets gibt es ab sofort im Vorverkauf für 10 € (teilweise zzgl. Vvk-Gebühr) und an der  Abendkasse für 12 €. \n\nStammkunden der Sparkasse Pforzheim Calw profitieren beim Kartenvorverkauf!\nDen Gutschein erhalten Sie per Stammkunden-Newsletter. Dazu müssen Sie 1. Stammkunde der Sparkasse sein und 2. den Stammkunden-Newsletter abonniert haben.\nSie erhalten im Kartenbüro in den Schmuckwelten Pforzheim (Westliche-Karl-Friedrich-Str. 56) eine Ermäßigung von 2 € und zahlen somit nur 9 € (inkl. Gebühr). \nFolgend alle Vorverkaufsstellen für Sie auf einen Blick:\nPforzheim: Sparkassen-Kartenbüro\, BMW-Autohaus ahg\, Fitness Factory\, Sport Carré und Liwell im Kaufland (auf der Wilferdinger Höhe).\nIspringen: Kiosk Ripka.\nErsingen: Bäckerei Ehringer (wieder geöffnet ab Montag\, den 10. September) und Shell Tankstelle Frank.\nKönigsbach: Föller Sportarena.\nRemchingen: Kulturhalle (wieder geöffnet ab Montag\, den 10. September)\nSöllingen: DHL-Shop. \nParkmöglichkeiten finden Sie u.a. die ganze Nacht bei unserem Partner Poco direkt gegenüber vom Autohaus ahg. \n\n  \nSie wollen auf dem neusten Stand bleiben? Dann folgen Sie uns doch auf Facebook.  \n \n 
URL:https://www.baden-events.de/event/30-party-autohaus-ahg/
LOCATION:AHG Autohandelsgesellschaft Pforzheim\, Karlsruher Straße 69\, Pforzheim\, Baden-Württemberg\, 75179\, Germany
CATEGORIES:vergangene Veranstaltungen
ATTACH;FMTTYPE=image/jpeg:https://www.baden-events.de/wp-content/uploads/2018/07/AHG-Autohandelsgesellschaft-30Party-Baden-events.jpg
END:VEVENT
END:VCALENDAR