BEGIN:VCALENDAR
VERSION:2.0
PRODID:-//Baden-events - ECPv5.14.0.2//NONSGML v1.0//EN
CALSCALE:GREGORIAN
METHOD:PUBLISH
X-WR-CALNAME:Baden-events
X-ORIGINAL-URL:https://www.baden-events.de
X-WR-CALDESC:Veranstaltungen für Baden-events
BEGIN:VTIMEZONE
TZID:Europe/Berlin
BEGIN:DAYLIGHT
TZOFFSETFROM:+0100
TZOFFSETTO:+0200
TZNAME:CEST
DTSTART:20220327T010000
END:DAYLIGHT
BEGIN:STANDARD
TZOFFSETFROM:+0200
TZOFFSETTO:+0100
TZNAME:CET
DTSTART:20221030T010000
END:STANDARD
END:VTIMEZONE
BEGIN:VEVENT
DTSTART;TZID=Europe/Berlin:20221125T210000
DTEND;TZID=Europe/Berlin:20221126T040000
DTSTAMP:20260420T155004
CREATED:20221023T173213Z
LAST-MODIFIED:20221122T202458Z
UID:3952-1669410000-1669435200@www.baden-events.de
SUMMARY:30+ Party im Garden's Club & Eden Pforzheim
DESCRIPTION:Einmal Eintritt zahlen und zu Musik von 3 verschiedenen DJs feiern!\nDer ehemalige Como Club – jetzt: Garden’s Club – ist inzwischen eine feste und beliebte Location der 30+ Party. Am 25. November wird der Garden’s Club um einen zweiten Dancefloor UND eine gemütliche Bar erweitert! Und das Beste: In jeder Location wird ein DJ auflegen! Feiert gemeinsam zu den besten Musikmixes und/oder sitzt entspannt zusammen und genießt leckere Drinks! \nLocations & Anreise:\nDer Eingang zu beiden Clubs befindet sich am Schlossberg (Stiftshof\, 75175 Pforzheim). Die zwei zusammenhängenden Locations werden durch eine gemütliche Bar ergänzt und sind nur wenige Meter voneinander entfernt. Die Anreise kann bequem mit der Bahn oder dem Bus erfolgen. Die Haltestellen sind ca. 3 Minuten zu Fuß entfernt. \nMusik:\nDancefloor eins bedient DJane Simoné\, die bereits im Juni auf unserer 30+ Party die Tanzfläche zum Beben gebracht hat\, mit dem besten Ü30-Musikmix aus allen Jahrzehnten! Auf der zweiten Tanzfläche feiern wir bis in die frühen Morgenstunden zu den erfolgreichsten 80ern und 90ern mit DJ Fettnan! Auch in der Eden Bar werden wir musikalisch verwöhnt. McDJ RABBA bietet uns das Beste aus Deep House & Mixed Music. Es wird eine unvergessliche Partynacht! \n\nKarten:\nEinmal Eintritt zahlen und Zugang zu beiden Locations sichern! Vorverkaufskarten könnt ihr bequem und einfach online auf diginights erwerben. Ebenso gibt es Karten solange der Vorrat reicht an unserer Abendkasse. \n\n\n  \n\nIhr wollt wissen\, was euch bei uns auf der 30+ Party erwartet? Dann schaut doch kurz auf unserem YouTube-Kanal vorbei.\n\n\n\n\n\n\nBitte beachtet die im Zeitraum der Veranstaltung geltenden Corona-Regelungen. Bisher gibt es zwar keine Einschränkungen\, dennoch bitten wir euch vor Veranstaltungsbeginn noch einmal hier auf unserer Website oder auf Social-Media vorbeizuschauen.\n\n\nU.a. unterstützt von der Sparkasse Pforzheim Calw und Edeka Berger. Die Veranstaltungen finden zu Ehren unseres Gründers Jürgen Kasper statt.
URL:https://www.baden-events.de/event/30-party-im-gardens-club-eden-pforzheim/
LOCATION:Garden’s Club & Eden Pforzheim\, Schlossberg 15-17 (Eingang Stiftshof)\, Pforzheim\, 75172\, Germany
CATEGORIES:30+ Party
ATTACH;FMTTYPE=image/jpeg:https://www.baden-events.de/wp-content/uploads/2022/10/Gardens-Club-homepage-bild.jpg
END:VEVENT
END:VCALENDAR