BEGIN:VCALENDAR
VERSION:2.0
PRODID:-//Baden-events - ECPv5.14.0.2//NONSGML v1.0//EN
CALSCALE:GREGORIAN
METHOD:PUBLISH
X-WR-CALNAME:Baden-events
X-ORIGINAL-URL:https://www.baden-events.de
X-WR-CALDESC:Veranstaltungen für Baden-events
BEGIN:VTIMEZONE
TZID:Europe/Berlin
BEGIN:DAYLIGHT
TZOFFSETFROM:+0100
TZOFFSETTO:+0200
TZNAME:CEST
DTSTART:20230326T010000
END:DAYLIGHT
BEGIN:STANDARD
TZOFFSETFROM:+0200
TZOFFSETTO:+0100
TZNAME:CET
DTSTART:20231029T010000
END:STANDARD
END:VTIMEZONE
BEGIN:VEVENT
DTSTART;TZID=Europe/Berlin:20230513T200000
DTEND;TZID=Europe/Berlin:20230514T030000
DTSTAMP:20260422T105138
CREATED:20230423T104330Z
LAST-MODIFIED:20230519T135731Z
UID:4249-1684008000-1684033200@www.baden-events.de
SUMMARY:30+ Party in der BMW ahg Pforzheim am Sa.\, 13. Mai 2023
DESCRIPTION:Es geht wieder los! Am 13. Mai findet die 30+ Party wieder in ihrer bisher beliebtesten Location in der BMW ahg in Pforzheim statt!\nDer ahg-Showroom wird für euch exklusiv in eine Ü30 Großdiskothek verwandelt. Das Team von Drinks&Things sorgt für eine professionelle Versorgung mit Cocktails\, Longdrinks\, Bier\, Sekt\, Wein\, antialkoholischen Getränken und alles\, was das Feierherz begehrt. Zudem lädt auch wieder der gemütliche Biergarten zum Entspannen und sich unterhalten ein! \n  \nVielen Dank an Yannick Bodemer Fotografie für die tollen Bilder: \n\n\nMusik:\nDJane Simoné bedient mit ihrem breiten Repertoire den kompletten Musikgeschmack der Generation 30 plus. Von den 70ern bis 90ern\, über Danceclassics\, bis zu den aktuellen Chart-Hits gibt es alles auf die Ohren\, was Partylaune macht. Seit 30 Jahren begeistert sie ihr Publikum und weiß ganz genau\, wie sie die Tanzfläche zum Beben bringt. \n\nKarten:\nUnsere Vorverkauftickets (*teilw. zzgl. VVK-Gebühr) bekommt ihr ab Montag\, den 24. April\, im Kartenbüro im TurmQuartier Pforzheim (Schmuckwelten)*\, bei ahg selbst oder ganz bequem online auf diginights.com*: \n\nWir bieten natürlich auch Karten am Veranstaltungstag ab 20 Uhr an unserer Abendkasse an. Solange der Vorrat reicht. \n\nParken:\nParkmöglichkeiten findet ihr u.a. die ganze Nacht bei unserem Partner Poco direkt gegenüber vom Autohaus ahg. \n\nEs wird wieder eine unvergessliche Partynacht! Wir freuen uns auf euch! \n  \nIhr wollt wissen\, was euch bei uns auf der 30+ Party erwartet? Dann schaut doch kurz auf unserem YouTube-Kanal vorbei.\n\n\n\n\n\nDu willst auf dem neusten Stand bleiben? Dann folge uns gerne auf Facebook oder Instagram: \n\n\n  \nDie 30+ Party wird u.a. unterstützt von der Sparkasse Pforzheim Calw\, Edeka Berger und Poco Pforzheim. Unsere Veranstaltungen finden zu Ehren unseres Gründers Jürgen Kasper statt. \n 
URL:https://www.baden-events.de/event/30-party-in-der-bmw-ahg-pforzheim-am-sa-13-mai-2023/
LOCATION:ahg Autohandelsgesellschaft mbH\, Karlsruher Str. 69\, Pforzheim\, 75179
CATEGORIES:30+ Party,vergangene Veranstaltungen
ATTACH;FMTTYPE=image/jpeg:https://www.baden-events.de/wp-content/uploads/2023/04/30-Party-ahg-autohaus-pforzheim-25.05.19.jpg
END:VEVENT
END:VCALENDAR