BEGIN:VCALENDAR
VERSION:2.0
PRODID:-//Baden-events - ECPv5.14.0.2//NONSGML v1.0//EN
CALSCALE:GREGORIAN
METHOD:PUBLISH
X-WR-CALNAME:Baden-events
X-ORIGINAL-URL:https://www.baden-events.de
X-WR-CALDESC:Veranstaltungen für Baden-events
BEGIN:VTIMEZONE
TZID:Europe/Berlin
BEGIN:DAYLIGHT
TZOFFSETFROM:+0100
TZOFFSETTO:+0200
TZNAME:CEST
DTSTART:20220327T010000
END:DAYLIGHT
BEGIN:STANDARD
TZOFFSETFROM:+0200
TZOFFSETTO:+0100
TZNAME:CET
DTSTART:20221030T010000
END:STANDARD
END:VTIMEZONE
BEGIN:VEVENT
DTSTART;TZID=Europe/Berlin:20220917T200000
DTEND;TZID=Europe/Berlin:20220918T030000
DTSTAMP:20260420T122812
CREATED:20220717T163752Z
LAST-MODIFIED:20221031T091259Z
UID:3866-1663444800-1663470000@www.baden-events.de
SUMMARY:30+ Party in der BMW ahg Pforzheim
DESCRIPTION:Die größten 30+ Party der Goldstadt geht in die zweite Runde!\nNach dieser letzten überragenden Auftaktveranstaltung mit euch in der BMW ahg Pforzheim sind wir wieder bereit\, den ahg-Showroom in eine Ü30 Großdiskothek zu verwandeln. Eine Profi-Cocktailbar\, ein gemütlicher Biergarten und mehrere weitere Bars laden wieder zum Entspannen und sich vergnügen ein! \nMusik:\nWir freuen uns sehr\, DJ Phil Torres\, einen erfahrenen „Radio DJ“ für unsere Party gewonnen zu haben. Der namenhafte DJ spielte bereits in unterschiedlichsten nationalen und internationalen Clubs und Feiern. Auf unserer 30+ Party wird er mit seinem breiten Repertoire von 70er bis 90er\, über Fox und Danceclassics\, bis zu den aktuellen Chart-Hits den Showroom der BMW ahg Pforzheim zum Beben bringen! \nHerzlichen Dank an Yannick Bodemer Fotografie! \n\n  \n\nParken:\nParkmöglichkeiten findet ihr u.a. die ganze Nacht bei unserem Partner Poco direkt gegenüber der BMW ahg Pforzheim. \nEs wird wieder eine unvergessliche Partynacht! Wir freuen uns auf euch! \nBitte beachtet die im Zeitraum der Veranstaltung geltenden Corona-Regelungen. Bisher gibt es zwar keine Einschränkungen\, dennoch bitten wir euch vor Veranstaltungsbeginn noch einmal auf unserer Website oder auf Social-Media vorbeizuschauen. Wir weisen außerdem darauf hin\, dass auf der Ü30-Tanzveranstaltung nur bar gezahlt werden kann. \nU.a. unterstützt von der Sparkasse Pforzheim Calw\, Edeka Berger und Poco.\nDiese Veranstaltung findet zu Ehren unseres Gründers Jürgen Kasper statt. \n  \nDu willst auf dem neusten Stand bleiben? Dann folge uns gerne auf Facebook oder Instagram. Hier geht’s zur Veranstaltung auf Facebook: \n\n  \nDu möchtest wissen\, was dich auf unserer 30+ Party erwartet? Hier geht’s zu einem unserer Aftermovies auf YouTube:
URL:https://www.baden-events.de/event/30-party-in-der-bmw-ahg-pforzheim/
LOCATION:ahg Autohandelsgesellschaft mbH\, Karlsruher Str. 69\, Pforzheim\, 75179
CATEGORIES:30+ Party,vergangene Veranstaltungen
ATTACH;FMTTYPE=image/jpeg:https://www.baden-events.de/wp-content/uploads/2020/10/30-Party-ahg-autohaus-pforzheim-25.05.19.jpg
END:VEVENT
END:VCALENDAR